BEGIN:VCALENDAR
VERSION:2.0
PRODID:-//Weinbauverein Dielenberg - ECPv6.15.20//NONSGML v1.0//EN
CALSCALE:GREGORIAN
METHOD:PUBLISH
X-ORIGINAL-URL:https://www.himmelluepfer.ch
X-WR-CALDESC:Veranstaltungen für Weinbauverein Dielenberg
REFRESH-INTERVAL;VALUE=DURATION:PT1H
X-Robots-Tag:noindex
X-PUBLISHED-TTL:PT1H
BEGIN:VTIMEZONE
TZID:Europe/Paris
BEGIN:DAYLIGHT
TZOFFSETFROM:+0100
TZOFFSETTO:+0200
TZNAME:CEST
DTSTART:20230326T010000
END:DAYLIGHT
BEGIN:STANDARD
TZOFFSETFROM:+0200
TZOFFSETTO:+0100
TZNAME:CET
DTSTART:20231029T010000
END:STANDARD
BEGIN:DAYLIGHT
TZOFFSETFROM:+0100
TZOFFSETTO:+0200
TZNAME:CEST
DTSTART:20240331T010000
END:DAYLIGHT
BEGIN:STANDARD
TZOFFSETFROM:+0200
TZOFFSETTO:+0100
TZNAME:CET
DTSTART:20241027T010000
END:STANDARD
BEGIN:DAYLIGHT
TZOFFSETFROM:+0100
TZOFFSETTO:+0200
TZNAME:CEST
DTSTART:20250330T010000
END:DAYLIGHT
BEGIN:STANDARD
TZOFFSETFROM:+0200
TZOFFSETTO:+0100
TZNAME:CET
DTSTART:20251026T010000
END:STANDARD
END:VTIMEZONE
BEGIN:VTIMEZONE
TZID:UTC
BEGIN:STANDARD
TZOFFSETFROM:+0000
TZOFFSETTO:+0000
TZNAME:UTC
DTSTART:20230101T000000
END:STANDARD
END:VTIMEZONE
BEGIN:VEVENT
DTSTART;TZID=Europe/Paris:20240308T190000
DTEND;TZID=Europe/Paris:20240308T210000
DTSTAMP:20260421T150531
CREATED:20240304T114857Z
LAST-MODIFIED:20240304T114857Z
UID:1608-1709924400-1709931600@www.himmelluepfer.ch
SUMMARY:Jungwein Degustation Jg. 2023
DESCRIPTION:Degustation vom Weinjahrgang 2023\nFür interessierte Mitglieder können die neuen Weine degustiert werden.\nDer Kellermeister Bruno Thommen mit Team lädt ein.
URL:https://www.himmelluepfer.ch/index.php/veranstaltungen/jungwein-degustation-jg-2023/
ATTACH;FMTTYPE=image/jpeg:https://www.himmelluepfer.ch/wp-content/uploads/2023/03/Bild230.jpg
END:VEVENT
BEGIN:VEVENT
DTSTART;TZID=UTC:20240315T170000
DTEND;TZID=UTC:20240315T200000
DTSTAMP:20260421T150531
CREATED:20240304T070122Z
LAST-MODIFIED:20240304T075252Z
UID:857-1710522000-1710532800@www.himmelluepfer.ch
SUMMARY:1. Abfüllung Riesling - Sylvaner
DESCRIPTION:1. Abfülltag Riesling – Sylvaner.\nDetails dazu später.
URL:https://www.himmelluepfer.ch/index.php/veranstaltungen/1-abfuellung-riesling-silvaner/
LOCATION:Rebhaus Weinbauverein Dielenberg\, Rebhaus Weinbauverein\, Oberdorf\, Baselland\, 4436
ATTACH;FMTTYPE=image/jpeg:https://www.himmelluepfer.ch/wp-content/uploads/2020/08/04-Anlage.jpg
ORGANIZER;CN="Weinbauverein Dielenberg":MAILTO:info@himmelluepfer.ch
END:VEVENT
END:VCALENDAR