BEGIN:VCALENDAR
VERSION:2.0
PRODID:-//Weinbauverein Dielenberg - ECPv6.15.20//NONSGML v1.0//EN
CALSCALE:GREGORIAN
METHOD:PUBLISH
X-WR-CALNAME:Weinbauverein Dielenberg
X-ORIGINAL-URL:https://www.himmelluepfer.ch
X-WR-CALDESC:Veranstaltungen für Weinbauverein Dielenberg
REFRESH-INTERVAL;VALUE=DURATION:PT1H
X-Robots-Tag:noindex
X-PUBLISHED-TTL:PT1H
BEGIN:VTIMEZONE
TZID:UTC
BEGIN:STANDARD
TZOFFSETFROM:+0000
TZOFFSETTO:+0000
TZNAME:UTC
DTSTART:20220101T000000
END:STANDARD
END:VTIMEZONE
BEGIN:VEVENT
DTSTART;TZID=UTC:20230910T110000
DTEND;TZID=UTC:20230910T170000
DTSTAMP:20260421T150430
CREATED:20230324T122607Z
LAST-MODIFIED:20230726T092838Z
UID:1479-1694343600-1694365200@www.himmelluepfer.ch
SUMMARY:1. Besenbeiz 2023
DESCRIPTION:1. Besenwirtschaft 2023\nMenu:\nDielenberger Weissweinsuppe oder Rindsragout Spätzli und Rotkraut\n\nReservationen:\n(Adrian Thommen 079 813 24 38)\nadrian.thommen@hotmail.com \nSpeck-/ Käseplättli oder gemischt mit Bauernbrot an allen sechs Sonntagen.\nDazu empfehlen wir aus unserem Sortiment Dielenberger «Himmellüpfer»\nSchaumwein\, Riesling-Sylvaner\, Johanniter\, Regent Rosé\, Regent rot.\nZum Dessert servieren wir Ihnen gerne diverse Kuchen und Torten sowie den beliebten Winzerkaffee.  \nParkplätze finden Sie bei der Mehrzweckhalle in Oberdorf.\nWir freuen uns auf Ihren Besuch.  \nWeinbauverein Dielenberg Oberdorf \nFlyer Besenwirtschaften 2023
URL:https://www.himmelluepfer.ch/index.php/veranstaltungen/1-besenbeiz-2023/
LOCATION:Rebhaus Weinbauverein Dielenberg\, Rebhaus Weinbauverein\, Oberdorf\, Baselland\, 4436
CATEGORIES:Besenbeizen
ATTACH;FMTTYPE=image/jpeg:https://www.himmelluepfer.ch/wp-content/uploads/2022/10/Beim-Servieren.jpg
END:VEVENT
BEGIN:VEVENT
DTSTART;TZID=UTC:20230924T110000
DTEND;TZID=UTC:20230924T170000
DTSTAMP:20260421T150430
CREATED:20230818T044216Z
LAST-MODIFIED:20230818T044216Z
UID:1483-1695553200-1695574800@www.himmelluepfer.ch
SUMMARY:2. Besenbeiz 2023
DESCRIPTION:2. Besenwirtschaft 2023\nMenu:\nFitnessteller mit Maispoularde\n\nReservationen:\n(Bruno Thommen 079 248 39 75)\nnoeggi@eblcom.ch \nSpeck-/ Käseplättli oder gemischt mit Bauernbrot an allen sechs Sonntagen.\nDazu empfehlen wir aus unserem Sortiment Dielenberger «Himmellüpfer»\nSchaumwein\, Riesling-Sylvaner\, Johanniter\, Regent Rosé\, Regent rot.\nZum Dessert servieren wir Ihnen gerne diverse Kuchen und Torten sowie den beliebten Winzerkaffee.  \nParkplätze finden Sie bei der Mehrzweckhalle in Oberdorf.\nWir freuen uns auf Ihren Besuch.  \nWeinbauverein Dielenberg Oberdorf \nFlyer Besenwirtschaften 2023
URL:https://www.himmelluepfer.ch/index.php/veranstaltungen/2-besenbeiz-2023/
CATEGORIES:Besenbeizen
ATTACH;FMTTYPE=image/jpeg:https://www.himmelluepfer.ch/wp-content/uploads/2023/03/Bild230.jpg
END:VEVENT
END:VCALENDAR