BEGIN:VCALENDAR
VERSION:2.0
PRODID:-//Weinbauverein Dielenberg - ECPv6.15.20//NONSGML v1.0//EN
CALSCALE:GREGORIAN
METHOD:PUBLISH
X-WR-CALNAME:Weinbauverein Dielenberg
X-ORIGINAL-URL:https://www.himmelluepfer.ch
X-WR-CALDESC:Veranstaltungen für Weinbauverein Dielenberg
REFRESH-INTERVAL;VALUE=DURATION:PT1H
X-Robots-Tag:noindex
X-PUBLISHED-TTL:PT1H
BEGIN:VTIMEZONE
TZID:UTC
BEGIN:STANDARD
TZOFFSETFROM:+0000
TZOFFSETTO:+0000
TZNAME:UTC
DTSTART:20220101T000000
END:STANDARD
END:VTIMEZONE
BEGIN:VEVENT
DTSTART;TZID=UTC:20230414T163000
DTEND;TZID=UTC:20230414T210000
DTSTAMP:20260421T220745
CREATED:20230308T061915Z
LAST-MODIFIED:20230324T085457Z
UID:1443-1681489800-1681506000@www.himmelluepfer.ch
SUMMARY:Weinabzug R-S und Johanniter
DESCRIPTION:An diesem Abend wird der Himmellüpfer Riesling-Sylvaner 50cl. und Johanniter abgefüllt.\nAlle Winzer welche Aufgeboten sind\, sollten pünktlich erscheinen.\nDiejenigen welche Wein beziehen sollen doch bitte den Wein an diesem Abend abholen kommen.\nDie Kellermannschaft dankt dir.
URL:https://www.himmelluepfer.ch/index.php/veranstaltungen/weinabzug-r-s-und-johanniter/
CATEGORIES:Frohnarbeit
ATTACH;FMTTYPE=image/jpeg:https://www.himmelluepfer.ch/wp-content/uploads/2023/03/Etikettiermaschine.jpg
END:VEVENT
BEGIN:VEVENT
DTSTART;TZID=UTC:20230423T100000
DTEND;TZID=UTC:20230423T150000
DTSTAMP:20260421T220745
CREATED:20230308T054202Z
LAST-MODIFIED:20230403T165307Z
UID:1436-1682244000-1682262000@www.himmelluepfer.ch
SUMMARY:Rebgottesdienst am Dielenberg
DESCRIPTION:Flyer Rebgottesdienst-2023 \nUnter der Leitung von: Pfarrer Hanspeter Schürch und Sabine Brantschen.\nUnd der musikalischen Begleitung der Musikgemeinschaft OWL\nOberdorf\, Waldenburg und Langenbruck. \nNach dem Gottesdienst können sie bei einer Jungwein- Degustation den neuen Jahrgang 2022 unserer Weine degustieren. \nSelbstverständlich können sie bei uns auch eine Kleinigkeit Essen\, und unsere Kuchen geniessen. \nDer Gottesdienst findet bei jedem Wetter statt.  \nWir freuen uns auf ihren Besuch.\nWeinbauverein Dielenberg
URL:https://www.himmelluepfer.ch/index.php/veranstaltungen/rebgottesdienst-am-dielenberg/
LOCATION:Rebhaus Weinbauverein Dielenberg\, Rebhaus Weinbauverein\, Oberdorf\, Baselland\, 4436
ATTACH;FMTTYPE=image/jpeg:https://www.himmelluepfer.ch/wp-content/uploads/2023/03/Gottesdienst-22.jpg
END:VEVENT
END:VCALENDAR