BEGIN:VCALENDAR
VERSION:2.0
PRODID:-//Weinbauverein Dielenberg - ECPv6.15.20//NONSGML v1.0//EN
CALSCALE:GREGORIAN
METHOD:PUBLISH
X-ORIGINAL-URL:https://www.himmelluepfer.ch
X-WR-CALDESC:Veranstaltungen für Weinbauverein Dielenberg
REFRESH-INTERVAL;VALUE=DURATION:PT1H
X-Robots-Tag:noindex
X-PUBLISHED-TTL:PT1H
BEGIN:VTIMEZONE
TZID:UTC
BEGIN:STANDARD
TZOFFSETFROM:+0000
TZOFFSETTO:+0000
TZNAME:UTC
DTSTART:20220101T000000
END:STANDARD
END:VTIMEZONE
BEGIN:VEVENT
DTSTART;TZID=UTC:20230310T190000
DTEND;TZID=UTC:20230310T203000
DTSTAMP:20260421T232826
CREATED:20230301T133508Z
LAST-MODIFIED:20230307T104424Z
UID:1409-1678474800-1678480200@www.himmelluepfer.ch
SUMMARY:Dielenberger Jungwein Degustation
DESCRIPTION:Degustation vom Weinjahrgang 2022\nFür interessierte Mitglieder können die neuen Weine degustiert werden.\nDer Kellermeister Bruno Thommen mit Team lädt ein.
URL:https://www.himmelluepfer.ch/index.php/veranstaltungen/test/
LOCATION:Rebberg WBVO\, Dielenbergweg 11\, Oberdorf\, Baselland\, 4436\, Schweiz
ATTACH;FMTTYPE=image/jpeg:https://www.himmelluepfer.ch/wp-content/uploads/2020/10/Degustationen.jpg
ORGANIZER;CN="Weinbauverein Dielenberg":MAILTO:info@himmelluepfer.ch
END:VEVENT
BEGIN:VEVENT
DTSTART;VALUE=DATE:20230318
DTEND;VALUE=DATE:20230319
DTSTAMP:20260421T232826
CREATED:20230308T060934Z
LAST-MODIFIED:20230308T061447Z
UID:1439-1679097600-1679183999@www.himmelluepfer.ch
SUMMARY:Fronarbeit bei den Vereinsreben
DESCRIPTION:An diesem Samstag stehen einige Arbeiten im Rebberg an.\nJedes Mitglied vom WBVO ist herzlich eingeladen mitzuhelfen.
URL:https://www.himmelluepfer.ch/index.php/veranstaltungen/fronarbeit-bei-den-vereinsreben/
LOCATION:Rebberg WBVO\, Dielenbergweg 11\, Oberdorf\, Baselland\, 4436\, Schweiz
CATEGORIES:Frohnarbeit
ATTACH;FMTTYPE=image/jpeg:https://www.himmelluepfer.ch/wp-content/uploads/2023/03/Kurs-2023.jpg
END:VEVENT
BEGIN:VEVENT
DTSTART;TZID=UTC:20230331T163000
DTEND;TZID=UTC:20230331T230000
DTSTAMP:20260421T232826
CREATED:20230307T111725Z
LAST-MODIFIED:20230308T053042Z
UID:1422-1680280200-1680303600@www.himmelluepfer.ch
SUMMARY:Weinabzug Riesling-Sylvaner
DESCRIPTION:An diesem Abend wird der Himmellüpfer Riesling-Sylvaner 75cl. abgefüllt.\nAlle Winzer welche Aufgeboten sind\, sollten pünktlich erscheinen.\nDiejenigen welche Wein beziehen sollen doch bitte den Wein an diesem Abend abholen kommen.\nDie Kellermannschaft dankt dir.
URL:https://www.himmelluepfer.ch/index.php/veranstaltungen/weinabzug-riesling-sylvaner/
LOCATION:Rebhaus Weinbauverein Dielenberg\, Rebhaus Weinbauverein\, Oberdorf\, Baselland\, 4436
CATEGORIES:Frohnarbeit
ATTACH;FMTTYPE=image/jpeg:https://www.himmelluepfer.ch/wp-content/uploads/2020/08/Abfuell-Maschine-scaled.jpg
ORGANIZER;CN="Weinbauverein Dielenberg":MAILTO:info@himmelluepfer.ch
END:VEVENT
END:VCALENDAR