BEGIN:VCALENDAR
VERSION:2.0
PRODID:-//Weinbauverein Dielenberg - ECPv6.15.20//NONSGML v1.0//EN
CALSCALE:GREGORIAN
METHOD:PUBLISH
X-ORIGINAL-URL:https://www.himmelluepfer.ch
X-WR-CALDESC:Veranstaltungen für Weinbauverein Dielenberg
REFRESH-INTERVAL;VALUE=DURATION:PT1H
X-Robots-Tag:noindex
X-PUBLISHED-TTL:PT1H
BEGIN:VTIMEZONE
TZID:Europe/Paris
BEGIN:DAYLIGHT
TZOFFSETFROM:+0100
TZOFFSETTO:+0200
TZNAME:CEST
DTSTART:20250330T010000
END:DAYLIGHT
BEGIN:STANDARD
TZOFFSETFROM:+0200
TZOFFSETTO:+0100
TZNAME:CET
DTSTART:20251026T010000
END:STANDARD
BEGIN:DAYLIGHT
TZOFFSETFROM:+0100
TZOFFSETTO:+0200
TZNAME:CEST
DTSTART:20260329T010000
END:DAYLIGHT
BEGIN:STANDARD
TZOFFSETFROM:+0200
TZOFFSETTO:+0100
TZNAME:CET
DTSTART:20261025T010000
END:STANDARD
BEGIN:DAYLIGHT
TZOFFSETFROM:+0100
TZOFFSETTO:+0200
TZNAME:CEST
DTSTART:20270328T010000
END:DAYLIGHT
BEGIN:STANDARD
TZOFFSETFROM:+0200
TZOFFSETTO:+0100
TZNAME:CET
DTSTART:20271031T010000
END:STANDARD
END:VTIMEZONE
BEGIN:VEVENT
DTSTART;TZID=Europe/Paris:20260426T100000
DTEND;TZID=Europe/Paris:20260426T170000
DTSTAMP:20260421T145939
CREATED:20260324T062810Z
LAST-MODIFIED:20260324T062810Z
UID:1812-1777197600-1777222800@www.himmelluepfer.ch
SUMMARY:Rebgottesdienst am Dielenberg
DESCRIPTION:Am 26. April 2026\, 10.00 Uhr beim Vereinshaus des Weinbauvereins Dielenberg. \nUnter der Leitung von: Pfarrer Torsten Amling\, und dem Jodlerclub Spitzenflühli Waldenburg.\nWie jedes Jahr können sie nach dem Gottesdienst unsere Jungweine 2025er degustieren.\nMit Dielenberger Weissweinsuppe\, Speck-Käsebrättli und unsere hausgemachten Kuchen\, ist auch für das leibliche Wohl gesorgt. \nDer Gottesdienst findet bei jedem Wetter statt. \nAchtung: Es gibt keine Parkier- Möglichkeit beim Rebhaus!!!\nParkplätze finden Sie bei der Mehrzweckhalle in Oberdorf. \nWir freuen uns auf ihren Besuch.\nWeinbauverein Dielenberg
URL:https://www.himmelluepfer.ch/index.php/veranstaltungen/rebgottesdienst-am-dielenberg-2/
CATEGORIES:Gottesdienst
ATTACH;FMTTYPE=image/jpeg:https://www.himmelluepfer.ch/wp-content/uploads/2022/05/RG-Glocke.jpeg
END:VEVENT
END:VCALENDAR