BEGIN:VCALENDAR
VERSION:2.0
PRODID:-//Weinbauverein Dielenberg - ECPv6.15.20//NONSGML v1.0//EN
CALSCALE:GREGORIAN
METHOD:PUBLISH
X-ORIGINAL-URL:https://www.himmelluepfer.ch
X-WR-CALDESC:Veranstaltungen für Weinbauverein Dielenberg
REFRESH-INTERVAL;VALUE=DURATION:PT1H
X-Robots-Tag:noindex
X-PUBLISHED-TTL:PT1H
BEGIN:VTIMEZONE
TZID:Europe/Paris
BEGIN:DAYLIGHT
TZOFFSETFROM:+0100
TZOFFSETTO:+0200
TZNAME:CEST
DTSTART:20240331T010000
END:DAYLIGHT
BEGIN:STANDARD
TZOFFSETFROM:+0200
TZOFFSETTO:+0100
TZNAME:CET
DTSTART:20241027T010000
END:STANDARD
BEGIN:DAYLIGHT
TZOFFSETFROM:+0100
TZOFFSETTO:+0200
TZNAME:CEST
DTSTART:20250330T010000
END:DAYLIGHT
BEGIN:STANDARD
TZOFFSETFROM:+0200
TZOFFSETTO:+0100
TZNAME:CET
DTSTART:20251026T010000
END:STANDARD
BEGIN:DAYLIGHT
TZOFFSETFROM:+0100
TZOFFSETTO:+0200
TZNAME:CEST
DTSTART:20260329T010000
END:DAYLIGHT
BEGIN:STANDARD
TZOFFSETFROM:+0200
TZOFFSETTO:+0100
TZNAME:CET
DTSTART:20261025T010000
END:STANDARD
END:VTIMEZONE
BEGIN:VEVENT
DTSTART;TZID=Europe/Paris:20251116T110000
DTEND;TZID=Europe/Paris:20251116T170000
DTSTAMP:20260421T220820
CREATED:20250702T114035Z
LAST-MODIFIED:20250702T114035Z
UID:1776-1763290800-1763312400@www.himmelluepfer.ch
SUMMARY:6. Besenbeiz 2025
DESCRIPTION:  \n6. Besenwirtschaft 2025\nMenu:\nRindsragout Spätzli und Rotkraut\nReservationen:\n(Adrian Thommen 079 813 24 38)\nadrian.thommen@hotmail.com \nDielenberger Weissweinsuppe\,\nSpeck-/ Käseplättli oder gemischt mit Bauernbrot an allen sechs Sonntagen.\nDazu empfehlen wir aus unserem Sortiment Dielenberger «Himmellüpfer»\nSchaumwein\, Riesling-Sylvaner\, Johanniter\, Regent Rosé\, Regent rot.\nZum Dessert servieren wir Ihnen gerne diverse Kuchen und Torten sowie den beliebten Winzerkaffee. \nParkplätze finden Sie bei der Mehrzweckhalle in Oberdorf.\nWir freuen uns auf Ihren Besuch. \nWeinbauverein Dielenberg Oberdorf \nFlyer Besenwirtschaften 2025
URL:https://www.himmelluepfer.ch/index.php/veranstaltungen/6-besenbeiz-2025/
CATEGORIES:Besenbeizen
END:VEVENT
END:VCALENDAR