BEGIN:VCALENDAR
VERSION:2.0
PRODID:-//Weinbauverein Dielenberg - ECPv6.15.20//NONSGML v1.0//EN
CALSCALE:GREGORIAN
METHOD:PUBLISH
X-ORIGINAL-URL:https://www.himmelluepfer.ch
X-WR-CALDESC:Veranstaltungen für Weinbauverein Dielenberg
REFRESH-INTERVAL;VALUE=DURATION:PT1H
X-Robots-Tag:noindex
X-PUBLISHED-TTL:PT1H
BEGIN:VTIMEZONE
TZID:Europe/Paris
BEGIN:DAYLIGHT
TZOFFSETFROM:+0100
TZOFFSETTO:+0200
TZNAME:CEST
DTSTART:20230326T010000
END:DAYLIGHT
BEGIN:STANDARD
TZOFFSETFROM:+0200
TZOFFSETTO:+0100
TZNAME:CET
DTSTART:20231029T010000
END:STANDARD
BEGIN:DAYLIGHT
TZOFFSETFROM:+0100
TZOFFSETTO:+0200
TZNAME:CEST
DTSTART:20240331T010000
END:DAYLIGHT
BEGIN:STANDARD
TZOFFSETFROM:+0200
TZOFFSETTO:+0100
TZNAME:CET
DTSTART:20241027T010000
END:STANDARD
BEGIN:DAYLIGHT
TZOFFSETFROM:+0100
TZOFFSETTO:+0200
TZNAME:CEST
DTSTART:20250330T010000
END:DAYLIGHT
BEGIN:STANDARD
TZOFFSETFROM:+0200
TZOFFSETTO:+0100
TZNAME:CET
DTSTART:20251026T010000
END:STANDARD
END:VTIMEZONE
BEGIN:VEVENT
DTSTART;TZID=Europe/Paris:20241020T110000
DTEND;TZID=Europe/Paris:20241020T170000
DTSTAMP:20260421T234048
CREATED:20240515T053711Z
LAST-MODIFIED:20240719T062526Z
UID:1684-1729422000-1729443600@www.himmelluepfer.ch
SUMMARY:4. Besenbeiz 2024
DESCRIPTION:  \n4. Besenwirtschaft 2024\nMenu:\nTreberwurst mit Kartoffel-/Lauchgratin\nReservationen:\n(Hannes Schweizer 079 215 70 65)\nretschen@bluewin.ch \nSpeck-/ Käseplättli oder gemischt mit Bauernbrot an allen sechs Sonntagen.\nDazu empfehlen wir aus unserem Sortiment Dielenberger «Himmellüpfer»\nSchaumwein\, Riesling-Sylvaner\, Johanniter\, Regent Rosé\, Regent rot.\nZum Dessert servieren wir Ihnen gerne diverse Kuchen und Torten sowie den beliebten Winzerkaffee. \nParkplätze finden Sie bei der Mehrzweckhalle in Oberdorf.\nWir freuen uns auf Ihren Besuch. \nWeinbauverein Dielenberg Oberdorf \nFlyer Besenwirtschaften 2024
URL:https://www.himmelluepfer.ch/index.php/veranstaltungen/4-besenbeiz-2024/
LOCATION:Rebhaus Weinbauverein Dielenberg\, Rebhaus Weinbauverein\, Oberdorf\, Baselland\, 4436
ATTACH;FMTTYPE=image/jpeg:https://www.himmelluepfer.ch/wp-content/uploads/2021/02/20191103_110000-scaled.jpg
ORGANIZER;CN="Weinbauverein Dielenberg":MAILTO:info@himmelluepfer.ch
END:VEVENT
END:VCALENDAR