BEGIN:VCALENDAR
VERSION:2.0
PRODID:-//Weinbauverein Dielenberg - ECPv6.15.20//NONSGML v1.0//EN
CALSCALE:GREGORIAN
METHOD:PUBLISH
X-ORIGINAL-URL:https://www.himmelluepfer.ch
X-WR-CALDESC:Veranstaltungen für Weinbauverein Dielenberg
REFRESH-INTERVAL;VALUE=DURATION:PT1H
X-Robots-Tag:noindex
X-PUBLISHED-TTL:PT1H
BEGIN:VTIMEZONE
TZID:UTC
BEGIN:STANDARD
TZOFFSETFROM:+0000
TZOFFSETTO:+0000
TZNAME:UTC
DTSTART:20230101T000000
END:STANDARD
END:VTIMEZONE
BEGIN:VEVENT
DTSTART;TZID=UTC:20240412T170000
DTEND;TZID=UTC:20240412T220000
DTSTAMP:20260421T175723
CREATED:20240304T085658Z
LAST-MODIFIED:20240304T113737Z
UID:1183-1712941200-1712959200@www.himmelluepfer.ch
SUMMARY:Weinabzug Rosé
DESCRIPTION:Weinabzug vom Regent Rosé
URL:https://www.himmelluepfer.ch/index.php/veranstaltungen/weinabzug-rose/
CATEGORIES:Frohnarbeit
ATTACH;FMTTYPE=image/jpeg:https://www.himmelluepfer.ch/wp-content/uploads/2021/05/Jungwein-2020-scaled.jpg
END:VEVENT
END:VCALENDAR