BEGIN:VCALENDAR
VERSION:2.0
PRODID:-//Weinbauverein Dielenberg - ECPv6.15.20//NONSGML v1.0//EN
CALSCALE:GREGORIAN
METHOD:PUBLISH
X-ORIGINAL-URL:https://www.himmelluepfer.ch
X-WR-CALDESC:Veranstaltungen für Weinbauverein Dielenberg
REFRESH-INTERVAL;VALUE=DURATION:PT1H
X-Robots-Tag:noindex
X-PUBLISHED-TTL:PT1H
BEGIN:VTIMEZONE
TZID:UTC
BEGIN:STANDARD
TZOFFSETFROM:+0000
TZOFFSETTO:+0000
TZNAME:UTC
DTSTART:20230101T000000
END:STANDARD
END:VTIMEZONE
BEGIN:VEVENT
DTSTART;TZID=UTC:20240405T170000
DTEND;TZID=UTC:20240405T220000
DTSTAMP:20260421T180618
CREATED:20200304T063344Z
LAST-MODIFIED:20240304T113532Z
UID:863-1712336400-1712354400@www.himmelluepfer.ch
SUMMARY:2. Abfüllung RS und Johanniter
DESCRIPTION:2. Abfülltag Riesling – Sylvaner und Johanniter.\nDetails dazu später.
URL:https://www.himmelluepfer.ch/index.php/veranstaltungen/2-abfuellung-riesling-silvaner/
LOCATION:Rebhaus Weinbauverein Dielenberg\, Rebhaus Weinbauverein\, Oberdorf\, Baselland\, 4436
CATEGORIES:Frohnarbeit
ATTACH;FMTTYPE=image/jpeg:https://www.himmelluepfer.ch/wp-content/uploads/2020/11/Abfuellen-RS.jpg
ORGANIZER;CN="Weinbauverein Dielenberg":MAILTO:info@himmelluepfer.ch
END:VEVENT
END:VCALENDAR