BEGIN:VCALENDAR
VERSION:2.0
PRODID:-//Weinbauverein Dielenberg - ECPv6.15.20//NONSGML v1.0//EN
CALSCALE:GREGORIAN
METHOD:PUBLISH
X-ORIGINAL-URL:https://www.himmelluepfer.ch
X-WR-CALDESC:Veranstaltungen für Weinbauverein Dielenberg
REFRESH-INTERVAL;VALUE=DURATION:PT1H
X-Robots-Tag:noindex
X-PUBLISHED-TTL:PT1H
BEGIN:VTIMEZONE
TZID:UTC
BEGIN:STANDARD
TZOFFSETFROM:+0000
TZOFFSETTO:+0000
TZNAME:UTC
DTSTART:20220101T000000
END:STANDARD
END:VTIMEZONE
BEGIN:VEVENT
DTSTART;TZID=UTC:20231008T110000
DTEND;TZID=UTC:20231008T170000
DTSTAMP:20260421T150429
CREATED:20230818T044243Z
LAST-MODIFIED:20230818T044243Z
UID:1485-1696762800-1696784400@www.himmelluepfer.ch
SUMMARY:3. Besenbeiz 2023
DESCRIPTION:3. Besenwirtschaft 2023\nMenu:\nBio-Urdinkel-Kernotto mit geräuchtem Schweinshals und Salat oder Vegi-Teller                                                                                                                                                                                                 \nReservationen:\n(Christian Zwygart 079 411 44 51)\nsczwygart@bluewin.ch  \nSpeck-/ Käseplättli oder gemischt mit Bauernbrot an allen sechs Sonntagen.\nDazu empfehlen wir aus unserem Sortiment Dielenberger «Himmellüpfer»\nSchaumwein\, Riesling-Sylvaner\, Johanniter\, Regent Rosé\, Regent rot.\nZum Dessert servieren wir Ihnen gerne diverse Kuchen und Torten sowie den beliebten Winzerkaffee.  \nParkplätze finden Sie bei der Mehrzweckhalle in Oberdorf.\nWir freuen uns auf Ihren Besuch.  \nWeinbauverein Dielenberg Oberdorf \nFlyer Besenwirtschaften 2023
URL:https://www.himmelluepfer.ch/index.php/veranstaltungen/3-besenbeiz-2023/
CATEGORIES:Besenbeizen
ATTACH;FMTTYPE=image/jpeg:https://www.himmelluepfer.ch/wp-content/uploads/2023/03/Bild230.jpg
END:VEVENT
END:VCALENDAR