BEGIN:VCALENDAR
VERSION:2.0
PRODID:-//Weinbauverein Dielenberg - ECPv6.15.20//NONSGML v1.0//EN
CALSCALE:GREGORIAN
METHOD:PUBLISH
X-WR-CALNAME:Weinbauverein Dielenberg
X-ORIGINAL-URL:https://www.himmelluepfer.ch
X-WR-CALDESC:Veranstaltungen für Weinbauverein Dielenberg
REFRESH-INTERVAL;VALUE=DURATION:PT1H
X-Robots-Tag:noindex
X-PUBLISHED-TTL:PT1H
BEGIN:VTIMEZONE
TZID:UTC
BEGIN:STANDARD
TZOFFSETFROM:+0000
TZOFFSETTO:+0000
TZNAME:UTC
DTSTART:20210101T000000
END:STANDARD
END:VTIMEZONE
BEGIN:VEVENT
DTSTART;TZID=UTC:20220911T080000
DTEND;TZID=UTC:20220911T170000
DTSTAMP:20260422T102824
CREATED:20220314T053058Z
LAST-MODIFIED:20220721T074711Z
UID:1196-1662883200-1662915600@www.himmelluepfer.ch
SUMMARY:1. Besenwirtschaft 2022
DESCRIPTION:1. Besenwirtschaft 2022\nMenu:\nDielenberger Weissweinsuppe oder Rindsragout Spätzli und Rotkraut\n\nReservationen:\n(Adrian Thommen 079 813 24 38)\nadrian.thommen@hotmail.com \nSpeck-/ Käseplättli oder gemischt mit Bauernbrot an allen sechs Sonntagen.\nDazu empfehlen wir aus unserem Sortiment Dielenberger «Himmellüpfer»\nSchaumwein\, Riesling-Sylvaner\, Johanniter\, Regent Rosé\, Regent rot.\nZum Dessert servieren wir Ihnen gerne diverse Kuchen und Torten sowie den beliebten Winzerkaffee.  \nParkplätze finden Sie bei der Mehrzweckhalle in Oberdorf.\nWir freuen uns auf Ihren Besuch.  \nWeinbauverein Dielenberg Oberdorf \nFlyer Besenwirtschaften 2022
URL:https://www.himmelluepfer.ch/index.php/veranstaltungen/1-besenwirtschaft-2022/
LOCATION:Rebberg WBVO\, Dielenbergweg 11\, Oberdorf\, Baselland\, 4436\, Schweiz
ATTACH;FMTTYPE=image/webp:https://www.himmelluepfer.ch/wp-content/uploads/2022/03/Rindsragout.webp
END:VEVENT
END:VCALENDAR